BEGIN:VCALENDAR
PRODID:-//eluceo/ical//2.0/EN
VERSION:2.0
CALSCALE:GREGORIAN
BEGIN:VEVENT
UID:67273cc7-7e5c-4463-8b95-534a45ebbdcd
DTSTAMP:20260421T160412Z
SUMMARY:7ª Sesión Observatorio EOI: Blockchain\, Pieza Clave de la Revolu
 ción Digital
URL:https://www.eoi.es/es/eventos/86253/7a-sesion-observatorio-eoi-blockcha
 in-pieza-clave-de-la-revolucion-digital
DTSTART:20180628T170000Z
DTEND:20180628T180000Z
LOCATION:Campus EOI Madrid. Avda. Gregorio del Amo\, 6. 28040 Madrid
END:VEVENT
END:VCALENDAR
