BEGIN:VCALENDAR
PRODID:-//eluceo/ical//2.0/EN
VERSION:2.0
CALSCALE:GREGORIAN
BEGIN:VEVENT
UID:04c381ea-ac89-4d70-8b31-e2e75feb7c0c
DTSTAMP:20260422T184205Z
SUMMARY:Taller "Cómo escoger la forma jurídica de tu negocio" (Coworking 
 Santander)
URL:https://www.eoi.es/es/eventos/86249/taller-como-escoger-la-forma-juridi
 ca-de-tu-negocio-coworking-santander
DTSTART:20180516T143000Z
DTEND:20180516T183000Z
LOCATION:Paseo de Canalejas 85. Mercado de Miranda
END:VEVENT
END:VCALENDAR
