BEGIN:VCALENDAR
PRODID:-//eluceo/ical//2.0/EN
VERSION:2.0
CALSCALE:GREGORIAN
BEGIN:VEVENT
UID:2ffca042-68ed-4110-ad06-1d732ead71e0
DTSTAMP:20260422T184205Z
SUMMARY:Taller "Programa de apoyo al emprendimiento local y europeo" (Cowor
 king Santander)
URL:https://www.eoi.es/es/eventos/86244/taller-programa-de-apoyo-al-emprend
 imiento-local-y-europeo-coworking-santander
DTSTART:20180508T143000Z
DTEND:20180508T183000Z
LOCATION:Paseo de Canalejas 85. Mercado de Miranda
END:VEVENT
END:VCALENDAR
