BEGIN:VCALENDAR
PRODID:-//eluceo/ical//2.0/EN
VERSION:2.0
CALSCALE:GREGORIAN
BEGIN:VEVENT
UID:90a33f85-3e0f-4281-a32a-4337ef05123c
DTSTAMP:20260421T173549Z
SUMMARY:Desayuno Industria 4.0 : Verdades y mentiras del gemelo digital (Ma
 drid)
URL:https://www.eoi.es/es/eventos/86243/desayuno-industria-40-verdades-y-me
 ntiras-del-gemelo-digital-madrid
DTSTART:20180508T070000Z
DTEND:20180508T090000Z
LOCATION:Campus EOI Madrid. Avda. Gregorio del Amo\, 6. 28040 Madrid
END:VEVENT
END:VCALENDAR
