BEGIN:VCALENDAR
PRODID:-//eluceo/ical//2.0/EN
VERSION:2.0
CALSCALE:GREGORIAN
BEGIN:VEVENT
UID:1ea71ed5-ec71-4c37-8c25-1041d3dcee5a
DTSTAMP:20260421T173522Z
SUMMARY:Webinar Vigilancia Tecnológica
URL:https://www.eoi.es/es/eventos/86234/webinar-vigilancia-tecnologica
DTSTART:20180524T163000Z
DTEND:20180524T180000Z
LOCATION:Online
END:VEVENT
END:VCALENDAR
