BEGIN:VCALENDAR
PRODID:-//eluceo/ical//2.0/EN
VERSION:2.0
CALSCALE:GREGORIAN
BEGIN:VEVENT
UID:90233876-c156-4fd8-8230-8226f9ba998e
DTSTAMP:20260421T173527Z
SUMMARY:Ponencia: Nueva normativa en Protección de Datos. El Reglamento Ge
 neral de Protección de Datos
URL:https://www.eoi.es/es/eventos/86225/ponencia-nueva-normativa-en-protecc
 ion-de-datos-el-reglamento-general-de-proteccion-de-datos
DTSTART:20180509T073000Z
DTEND:20180509T093000Z
LOCATION:Campus EOI Madrid. Avda. Gregorio del Amo\, 6. 28040 Madrid
END:VEVENT
END:VCALENDAR
