BEGIN:VCALENDAR
PRODID:-//eluceo/ical//2.0/EN
VERSION:2.0
CALSCALE:GREGORIAN
BEGIN:VEVENT
UID:d570e7af-9ba6-471f-b35d-7bad5241ba8e
DTSTAMP:20260423T192951Z
SUMMARY:Jornada de Presentación del Club de Crecimiento Empresarial (Murci
 a)
URL:https://www.eoi.es/es/eventos/86223/jornada-de-presentacion-del-club-de
 -crecimiento-empresarial-murcia
DTSTART:20180508T090000Z
DTEND:20180508T113000Z
LOCATION:Parque Científico de Murcia. Complejo de Espinardo. Ctra. de Madr
 id KM 388. CP30100 Espinardo. Murcia
END:VEVENT
END:VCALENDAR
