BEGIN:VCALENDAR
PRODID:-//eluceo/ical//2.0/EN
VERSION:2.0
CALSCALE:GREGORIAN
BEGIN:VEVENT
UID:08b41a6a-7396-4f1b-9e2a-eb169ab444b8
DTSTAMP:20260421T173418Z
SUMMARY:Jornada informativa sobre la nueva Ley de Contratos del Sector Púb
 lico
URL:https://www.eoi.es/es/eventos/86205/jornada-informativa-sobre-la-nueva-
 ley-de-contratos-del-sector-publico
DTSTART:20180427T073000Z
DTEND:20180427T100000Z
LOCATION:Campus EOI Madrid. Avda. Gregorio del Amo\, 6. 28040 Madrid
END:VEVENT
END:VCALENDAR
