BEGIN:VCALENDAR
PRODID:-//eluceo/ical//2.0/EN
VERSION:2.0
CALSCALE:GREGORIAN
BEGIN:VEVENT
UID:154f9e60-09e1-4143-af6f-1748f42fc9f6
DTSTAMP:20260421T173339Z
SUMMARY:Taller "Cómo Darse a Conocer en Medios de Comunicación" (Coworkin
 g Madrid)
URL:https://www.eoi.es/es/eventos/86201/taller-como-darse-conocer-en-medios
 -de-comunicacion-coworking-madrid
DTSTART:20180417T140000Z
DTEND:20180417T170000Z
LOCATION:Campus EOI Madrid. Avda. Gregorio del Amo\, 6. 28040 Madrid
END:VEVENT
END:VCALENDAR
