BEGIN:VCALENDAR
PRODID:-//eluceo/ical//2.0/EN
VERSION:2.0
CALSCALE:GREGORIAN
BEGIN:VEVENT
UID:c15600a8-2c1f-4dea-8814-ba5ab637038c
DTSTAMP:20260421T173417Z
SUMMARY:Webinar Criptofinanzas: Bitcoin y monedas alternativas. Con Joaquí
 n López Lérida (Online)
URL:https://www.eoi.es/es/eventos/86197/webinar-criptofinanzas-bitcoin-y-mo
 nedas-alternativas-con-joaquin-lopez-lerida-online
DTSTART:20180426T163000Z
DTEND:20180426T180000Z
LOCATION:Online (hora española)
END:VEVENT
END:VCALENDAR
