BEGIN:VCALENDAR
PRODID:-//eluceo/ical//2.0/EN
VERSION:2.0
CALSCALE:GREGORIAN
BEGIN:VEVENT
UID:bdd3e34c-ef91-4db9-b7cd-f8b9b4ad192c
DTSTAMP:20260421T173338Z
SUMMARY:Open Day Postgrado
URL:https://www.eoi.es/es/eventos/86196/open-day-postgrado
DTSTART:20180425T080000Z
DTEND:20180425T120000Z
LOCATION:Campus EOI Madrid. Avda. Gregorio del Amo\, 6. 28040 Madrid
END:VEVENT
END:VCALENDAR
