BEGIN:VCALENDAR
PRODID:-//eluceo/ical//2.0/EN
VERSION:2.0
CALSCALE:GREGORIAN
BEGIN:VEVENT
UID:51623b67-b0e6-4caf-a20d-c009f318587a
DTSTAMP:20260422T183843Z
SUMMARY:Taller "Diseño de Equipos y Gestión del Talento" (Coworking Santa
 nder)
URL:https://www.eoi.es/es/eventos/86177/taller-diseno-de-equipos-y-gestion-
 del-talento-coworking-santander
DTSTART:20180412T143000Z
DTEND:20180412T183000Z
LOCATION:Paseo de Canalejas 85. Mercado de Miranda
END:VEVENT
END:VCALENDAR
