BEGIN:VCALENDAR
PRODID:-//eluceo/ical//2.0/EN
VERSION:2.0
CALSCALE:GREGORIAN
BEGIN:VEVENT
UID:348dca6b-bca6-4379-adaa-8ecd14a9e175
DTSTAMP:20260421T174835Z
SUMMARY:Conferencia: "Gestión de riesgos en proyectos. Aplicación en el s
 ector aeroespacial" (Madrid)
URL:https://www.eoi.es/es/eventos/86125/conferencia-gestion-de-riesgos-en-p
 royectos-aplicacion-en-el-sector-aeroespacial-madrid
DTSTART:20180321T173000Z
DTEND:20180321T183000Z
LOCATION:Campus EOI Madrid. Avda. Gregorio del Amo\, 6. 28040 Madrid
END:VEVENT
END:VCALENDAR
