BEGIN:VCALENDAR
PRODID:-//eluceo/ical//2.0/EN
VERSION:2.0
CALSCALE:GREGORIAN
BEGIN:VEVENT
UID:ceef0f74-b6f6-4a6e-b2a2-535f8ae8f79e
DTSTAMP:20260421T173338Z
SUMMARY:Webinar Costumer Experience en el sector TIC (Online)
URL:https://www.eoi.es/es/eventos/86100/webinar-costumer-experience-en-el-s
 ector-tic-online
DTSTART:20180322T090000Z
DTEND:20180322T103000Z
LOCATION:Online (hora española)
END:VEVENT
END:VCALENDAR
