BEGIN:VCALENDAR
PRODID:-//eluceo/ical//2.0/EN
VERSION:2.0
CALSCALE:GREGORIAN
BEGIN:VEVENT
UID:14cd515d-7f18-43ba-9ce3-0cb8b4ba110f
DTSTAMP:20260421T173527Z
SUMMARY:Open Day EOI Digital
URL:https://www.eoi.es/es/eventos/86088/open-day-eoi-digital
DTSTART:20180317T090000Z
DTEND:20180317T123000Z
LOCATION:Campus EOI Madrid. Avda. Gregorio del Amo\, 6. 28040 Madrid
END:VEVENT
END:VCALENDAR
