BEGIN:VCALENDAR
PRODID:-//eluceo/ical//2.0/EN
VERSION:2.0
CALSCALE:GREGORIAN
BEGIN:VEVENT
UID:dc6d516d-eae9-4a12-81c1-ad6c76285849
DTSTAMP:20260421T185238Z
SUMMARY:Taller "Gestión tecnológica para proyectos digitales innovadores"
  (Coworking EOI Madrid)
URL:https://www.eoi.es/es/eventos/86080/taller-gestion-tecnologica-para-pro
 yectos-digitales-innovadores-coworking-eoi-madrid
DTSTART:20180410T140000Z
DTEND:20180410T190000Z
LOCATION:Campus EOI Madrid. Avda. Gregorio del Amo\, 6. 28040 Madrid
END:VEVENT
END:VCALENDAR
