BEGIN:VCALENDAR
PRODID:-//eluceo/ical//2.0/EN
VERSION:2.0
CALSCALE:GREGORIAN
BEGIN:VEVENT
UID:9ed18d53-004d-4615-bafd-c0457d51d047
DTSTAMP:20260421T173522Z
SUMMARY:De Coworker a Networker (Coworking EOI Madrid)
URL:https://www.eoi.es/es/eventos/86063/de-coworker-networker-coworking-eoi
 -madrid
DTSTART:20180313T170000Z
DTEND:20180313T203000Z
LOCATION:Campus EOI Madrid. Avda. Gregorio del Amo\, 6. 28040 Madrid
END:VEVENT
END:VCALENDAR
