BEGIN:VCALENDAR
PRODID:-//eluceo/ical//2.0/EN
VERSION:2.0
CALSCALE:GREGORIAN
BEGIN:VEVENT
UID:d2c2f006-9e9c-48f9-a779-cc42d9dec1ac
DTSTAMP:20260421T173527Z
SUMMARY:Taller: "Diseño de UX para mejorar la conversión y técnicas de G
 rowth Hacking para lead generation"  (Coworking EOI Madrid)
URL:https://www.eoi.es/es/eventos/86062/taller-diseno-de-ux-para-mejorar-la
 -conversion-y-tecnicas-de-growth-hacking-para-lead-generation-coworking-eo
 i-madrid
DTSTART:20180320T150000Z
DTEND:20180320T190000Z
LOCATION:Campus EOI Madrid. Avda. Gregorio del Amo\, 6. 28040 Madrid
END:VEVENT
END:VCALENDAR
