BEGIN:VCALENDAR
PRODID:-//eluceo/ical//2.0/EN
VERSION:2.0
CALSCALE:GREGORIAN
BEGIN:VEVENT
UID:bae8e0a5-f768-43e2-9b22-1987184e7f15
DTSTAMP:20260421T185251Z
SUMMARY:Taller de Métricas  (Coworking EOI Madrid)
URL:https://www.eoi.es/es/eventos/86061/taller-de-metricas-coworking-eoi-ma
 drid
DTSTART:20180403T140000Z
DTEND:20180403T190000Z
LOCATION:Campus EOI Madrid. Avda. Gregorio del Amo\, 6. 28040 Madrid
END:VEVENT
END:VCALENDAR
