BEGIN:VCALENDAR
PRODID:-//eluceo/ical//2.0/EN
VERSION:2.0
CALSCALE:GREGORIAN
BEGIN:VEVENT
UID:c48d9583-4c18-4708-873d-73fbe8eecd15
DTSTAMP:20260421T185256Z
SUMMARY:El futuro de la salud en un mundo conectado (Madrid)
URL:https://www.eoi.es/es/eventos/86050/el-futuro-de-la-salud-en-un-mundo-c
 onectado-madrid
DTSTART:20180220T180000Z
DTEND:20180220T190000Z
LOCATION:Campus EOI Madrid. Avda. Gregorio del Amo\, 6. 28040 Madrid
END:VEVENT
END:VCALENDAR
