BEGIN:VCALENDAR
PRODID:-//eluceo/ical//2.0/EN
VERSION:2.0
CALSCALE:GREGORIAN
BEGIN:VEVENT
UID:bc0c1689-3bd3-40e8-96fd-fc1a88f6a061
DTSTAMP:20260421T173523Z
SUMMARY:El Talento 4.0: la Piedra Angular de la Transformación Digital
URL:https://www.eoi.es/es/eventos/86037/el-talento-40-la-piedra-angular-de-
 la-transformacion-digital
DTSTART:20180212T173000Z
DTEND:20180212T190000Z
LOCATION:Campus EOI Madrid. Avda. Gregorio del Amo\, 6. 28040 Madrid
END:VEVENT
END:VCALENDAR
