BEGIN:VCALENDAR
PRODID:-//eluceo/ical//2.0/EN
VERSION:2.0
CALSCALE:GREGORIAN
BEGIN:VEVENT
UID:f77f244c-a738-4c49-9e64-f4ea12e17bf3
DTSTAMP:20260421T173424Z
SUMMARY:Jornada “Cuenta atrás para el GDPR: ¿está mi empresa preparada
 ?”
URL:https://www.eoi.es/es/eventos/86036/jornada-cuenta-atras-para-el-gdpr-e
 sta-mi-empresa-preparada
DTSTART:20180220T083000Z
DTEND:20180220T110000Z
LOCATION:Campus EOI Madrid. Avda. Gregorio del Amo\, 6. 28040 Madrid
END:VEVENT
END:VCALENDAR
