BEGIN:VCALENDAR
PRODID:-//eluceo/ical//2.0/EN
VERSION:2.0
CALSCALE:GREGORIAN
BEGIN:VEVENT
UID:9528b3c7-15b6-4702-aa03-07eebd4eae41
DTSTAMP:20260421T173425Z
SUMMARY:"La hora de la Inteligencia Artificial ha llegado: Impacto en la In
 dustria"
URL:https://www.eoi.es/es/eventos/86033/la-hora-de-la-inteligencia-artifici
 al-ha-llegado-impacto-en-la-industria
DTSTART:20180208T173000Z
DTEND:20180208T191500Z
LOCATION:Campus EOI Madrid
END:VEVENT
END:VCALENDAR
