BEGIN:VCALENDAR
PRODID:-//eluceo/ical//2.0/EN
VERSION:2.0
CALSCALE:GREGORIAN
BEGIN:VEVENT
UID:fe14c071-1525-4f7a-abe1-a343415dd4fd
DTSTAMP:20260421T173528Z
SUMMARY:Marco para el Informe de los Principios Rectores de las Naciones Un
 idas sobre las Empresas y los Derechos Humanos
URL:https://www.eoi.es/es/eventos/86031/marco-para-el-informe-de-los-princi
 pios-rectores-de-las-naciones-unidas-sobre-las-empresas-y-los-derechos-hum
 anos
DTSTART:20180130T083000Z
DTEND:20180130T110000Z
LOCATION:Campus EOI Madrid. Avda. Gregorio del Amo\, 6. 28040 Madrid
END:VEVENT
END:VCALENDAR
