BEGIN:VCALENDAR
PRODID:-//eluceo/ical//2.0/EN
VERSION:2.0
CALSCALE:GREGORIAN
BEGIN:VEVENT
UID:c54a4452-c18a-4cdb-a91b-2d1f2bde59c1
DTSTAMP:20260421T130150Z
SUMMARY:Taller “Instrumentos de Apoyo al Emprendimiento. Servicios\, Ayud
 as\, Subvenciones y Acceso a la Financiación” (Coworking Cabanillas del
  Campo)
URL:https://www.eoi.es/es/eventos/86009/taller-instrumentos-de-apoyo-al-emp
 rendimiento-servicios-ayudas-subvenciones-y-acceso-la-financiacion-coworki
 ng-cabanillas-del-campo
DTSTART:20180115T150000Z
DTEND:20180115T190000Z
LOCATION:Coworking Cabanillas del Campo  Escuela Municipal Infantil el Mira
 dor C/ Lope de Vega\, 8 Cabanillas del Campo (Guadalajara)
END:VEVENT
END:VCALENDAR
