BEGIN:VCALENDAR
PRODID:-//eluceo/ical//2.0/EN
VERSION:2.0
CALSCALE:GREGORIAN
BEGIN:VEVENT
UID:c0c3d10d-405e-436b-8685-1e077953f7fe
DTSTAMP:20260421T173548Z
SUMMARY:Open Day Executive Education
URL:https://www.eoi.es/es/eventos/85986/open-day-executive-education
DTSTART:20180120T090000Z
DTEND:20180120T123000Z
LOCATION:Campus EOI Madrid. Avda. Gregorio del Amo\, 6. 28040 Madrid
END:VEVENT
END:VCALENDAR
