BEGIN:VCALENDAR
PRODID:-//eluceo/ical//2.0/EN
VERSION:2.0
CALSCALE:GREGORIAN
BEGIN:VEVENT
UID:d854d93c-3a37-400a-8b80-3ac76a5e873b
DTSTAMP:20260421T185256Z
SUMMARY:J.J. Toribio y E. Ontiveros. Dos visiones de la política económic
 a actual a debate
URL:https://www.eoi.es/es/eventos/85984/jj-toribio-y-e-ontiveros-dos-vision
 es-de-la-politica-economica-actual-debate
DTSTART:20180125T180000Z
DTEND:20180125T193000Z
LOCATION:Campus EOI Madrid. Avda. Gregorio del Amo\, 6. 28040 Madrid
END:VEVENT
END:VCALENDAR
