BEGIN:VCALENDAR
PRODID:-//eluceo/ical//2.0/EN
VERSION:2.0
CALSCALE:GREGORIAN
BEGIN:VEVENT
UID:03661b6b-6379-4af0-ace5-11e1279ae1f9
DTSTAMP:20260421T203145Z
SUMMARY:1ª sesión Club de la Energía “Conferencia inaugural: Geopolít
 ica de la Energía y la transición hacia un modelo sostenible” (Madrid)
URL:https://www.eoi.es/es/eventos/85962/1a-sesion-club-de-la-energia-confer
 encia-inaugural-geopolitica-de-la-energia-y-la-transicion-hacia-un-modelo-
 sostenible-madrid
DTSTART:20171127T170000Z
DTEND:20171127T183000Z
LOCATION:Campus EOI Madrid. Avda. Gregorio del Amo\, 6. 28040 Madrid
END:VEVENT
END:VCALENDAR
