BEGIN:VCALENDAR
PRODID:-//eluceo/ical//2.0/EN
VERSION:2.0
CALSCALE:GREGORIAN
BEGIN:VEVENT
UID:0c759c24-f8cd-4803-8160-156f86cc56cd
DTSTAMP:20260421T173522Z
SUMMARY:Sesión inicial “Step up to the Stage”
URL:https://www.eoi.es/es/eventos/85949/sesion-inicial-step-stage
DTSTART:20180125T180000Z
DTEND:20180125T193000Z
LOCATION:Campus EOI Madrid
END:VEVENT
END:VCALENDAR
