BEGIN:VCALENDAR
PRODID:-//eluceo/ical//2.0/EN
VERSION:2.0
CALSCALE:GREGORIAN
BEGIN:VEVENT
UID:4a52de39-a241-4ec3-9907-32fc8e2d4907
DTSTAMP:20260421T184350Z
SUMMARY:Encuentro Anual Antiguos Alumnos EOI 2017
URL:https://www.eoi.es/es/eventos/85931/encuentro-anual-antiguos-alumnos-eo
 i-2017
DTSTART:20171214T183000Z
DTEND:20171214T210000Z
LOCATION:Centro de Conferencias Pablo VI. Pº Juan XXIII\, 3. 28040 Madrid
END:VEVENT
END:VCALENDAR
