BEGIN:VCALENDAR
PRODID:-//eluceo/ical//2.0/EN
VERSION:2.0
CALSCALE:GREGORIAN
BEGIN:VEVENT
UID:eb2c3b3c-4dc3-4a73-8a09-abcc17a7b687
DTSTAMP:20260421T184350Z
SUMMARY:Taller de Métricas (Coworking Madrid)
URL:https://www.eoi.es/es/eventos/85925/taller-de-metricas-coworking-madrid
DTSTART:20171107T150000Z
DTEND:20171107T200000Z
LOCATION:Aula Taller. Sede EOI Madrid
END:VEVENT
END:VCALENDAR
