BEGIN:VCALENDAR
PRODID:-//eluceo/ical//2.0/EN
VERSION:2.0
CALSCALE:GREGORIAN
BEGIN:VEVENT
UID:504f1765-eb24-4eba-9823-3ba52b7ff701
DTSTAMP:20260421T184405Z
SUMMARY:Taller "Financiación de Startups" (Coworking EOI Madrid)
URL:https://www.eoi.es/es/eventos/85923/taller-financiacion-de-startups-cow
 orking-eoi-madrid
DTSTART:20171121T150000Z
DTEND:20171121T190000Z
LOCATION:Campus EOI Madrid. Avda. Gregorio del Amo\, 6. 28040 Madrid
END:VEVENT
END:VCALENDAR
