BEGIN:VCALENDAR
PRODID:-//eluceo/ical//2.0/EN
VERSION:2.0
CALSCALE:GREGORIAN
BEGIN:VEVENT
UID:e66fab5d-60cb-4adc-a643-c93bd12adc95
DTSTAMP:20260421T184352Z
SUMMARY:Jornada “La Responsabilidad Social y la Inclusión de la Diversid
 ad: Bequal el Sello que Certifica la RS con las Personas con Discapacidad
 ” (CaixaForum Madrid)
URL:https://www.eoi.es/es/eventos/85893/jornada-la-responsabilidad-social-y
 -la-inclusion-de-la-diversidad-bequal-el-sello-que-certifica-la-rs-con-las
 -personas-con-discapacidad-caixaforum-madrid
DTSTART:20171024T070000Z
DTEND:20171024T100000Z
LOCATION:CaixaForum Madrid. Centro Social y Cultural de la Obra Social “l
 a Caixa”. Pº del Prado 36\, Madrid
END:VEVENT
END:VCALENDAR
