BEGIN:VCALENDAR
PRODID:-//eluceo/ical//2.0/EN
VERSION:2.0
CALSCALE:GREGORIAN
BEGIN:VEVENT
UID:d61980b3-74a0-4542-836d-52f3103258c5
DTSTAMP:20260421T184351Z
SUMMARY:Jornada de Gestión de Multiproyectos
URL:https://www.eoi.es/es/eventos/85844/jornada-de-gestion-de-multiproyecto
 s
DTSTART:20171124T083000Z
DTEND:20171124T104500Z
LOCATION:Campus EOI Madrid. Avda. Gregorio del Amo\, 6. 28040 Madrid
END:VEVENT
END:VCALENDAR
