BEGIN:VCALENDAR
PRODID:-//eluceo/ical//2.0/EN
VERSION:2.0
CALSCALE:GREGORIAN
BEGIN:VEVENT
UID:95050b53-9f0d-4b9d-a4d4-bd11eef08591
DTSTAMP:20260421T184259Z
SUMMARY:Open Day Executive Education
URL:https://www.eoi.es/es/eventos/85836/open-day-executive-education
DTSTART:20170923T080000Z
DTEND:20170923T113000Z
LOCATION:Campus EOI Madrid. Avda. Gregorio del Amo\, 6. 28040 Madrid
END:VEVENT
END:VCALENDAR
