BEGIN:VCALENDAR
PRODID:-//eluceo/ical//2.0/EN
VERSION:2.0
CALSCALE:GREGORIAN
BEGIN:VEVENT
UID:974e8cd1-df1d-4c32-8ba6-f84ab3ad0742
DTSTAMP:20260421T184351Z
SUMMARY:JORNADA DE DEMAND DRIVEN (Madrid)
URL:https://www.eoi.es/es/eventos/85828/jornada-de-demand-driven-madrid
DTSTART:20171005T073000Z
DTEND:20171005T094500Z
LOCATION:Campus EOI Madrid. Avda. Gregorio del Amo\, 6. 28040 Madrid
END:VEVENT
END:VCALENDAR
