BEGIN:VCALENDAR
PRODID:-//eluceo/ical//2.0/EN
VERSION:2.0
CALSCALE:GREGORIAN
BEGIN:VEVENT
UID:42d8832c-9f45-408d-8f50-dec16e0a1532
DTSTAMP:20260421T130247Z
SUMMARY:Taller ''Instrumentos de Apoyo al Emprendimiento. Servicios\, Ayuda
 s\, Subvenciones y Acceso a la Financiación'' (Coworking Puertollano)
URL:https://www.eoi.es/es/eventos/85810/taller-instrumentos-de-apoyo-al-emp
 rendimiento-servicios-ayudas-subvenciones-y-acceso-la-financiacion-coworki
 ng-puertollano
DTSTART:20170725T140000Z
DTEND:20170725T170000Z
LOCATION:FUNDESCOP C/ Aduana\, Nº 21 Entreplanta 13500 Puertollano
END:VEVENT
END:VCALENDAR
