BEGIN:VCALENDAR
PRODID:-//eluceo/ical//2.0/EN
VERSION:2.0
CALSCALE:GREGORIAN
BEGIN:VEVENT
UID:be0e277e-6260-4d19-aaae-47e68cae6118
DTSTAMP:20260421T201249Z
SUMMARY:Acto de Clausura y entrega de diplomas curso académico 2016/17
URL:https://www.eoi.es/es/eventos/85786/acto-de-clausura-y-entrega-de-diplo
 mas-curso-academico-201617
DTSTART:20170720T173000Z
DTEND:20170720T210000Z
LOCATION:Campus EOI Madrid. Avda. Gregorio del Amo\, 6. 28040 Madrid
END:VEVENT
END:VCALENDAR
