BEGIN:VCALENDAR
PRODID:-//eluceo/ical//2.0/EN
VERSION:2.0
CALSCALE:GREGORIAN
BEGIN:VEVENT
UID:fc7d00e8-a9fc-4b86-8fb5-693c522a11a0
DTSTAMP:20260421T130157Z
SUMMARY:Taller ''Ayudas y Subvenciones. Instrumentos de Apoyo al Emprendimi
 ento. Servicios\, Ayudas\, Subvenciones y Acceso a la Financiación'' (Cow
 orking Toledo)
URL:https://www.eoi.es/es/eventos/85778/taller-ayudas-y-subvenciones-instru
 mentos-de-apoyo-al-emprendimiento-servicios-ayudas-subvenciones-y-acceso-l
 a-financiacion-coworking-toledo
DTSTART:20170711T140000Z
DTEND:20170711T180000Z
LOCATION:C/ Dinamarca 6\, 45004 Toledo.
END:VEVENT
END:VCALENDAR
