BEGIN:VCALENDAR
PRODID:-//eluceo/ical//2.0/EN
VERSION:2.0
CALSCALE:GREGORIAN
BEGIN:VEVENT
UID:914defd6-2674-4c43-9070-f00fb93b078d
DTSTAMP:20260421T201212Z
SUMMARY:Ponencia “Nuevos retos en Ciberseguridad. Machine Learning y Crip
 tografía”
URL:https://www.eoi.es/es/eventos/85736/ponencia-nuevos-retos-en-cibersegur
 idad-machine-learning-y-criptografia
DTSTART:20170627T073000Z
DTEND:20170627T093000Z
LOCATION:Campus EOI Madrid. Avda. Gregorio del Amo\, 6. 28040 Madrid
END:VEVENT
END:VCALENDAR
