BEGIN:VCALENDAR
PRODID:-//eluceo/ical//2.0/EN
VERSION:2.0
CALSCALE:GREGORIAN
BEGIN:VEVENT
UID:74ce8008-72d1-4afd-8b4f-1449ed4d1a5b
DTSTAMP:20260421T214603Z
SUMMARY:EOI te da caña
URL:https://www.eoi.es/es/eventos/85733/eoi-te-da-cana
DTSTART:20170622T170000Z
DTEND:20170622T190000Z
LOCATION:Campus EOI Madrid. Avda. Gregorio del Amo\, 6. 28040 Madrid
END:VEVENT
END:VCALENDAR
