BEGIN:VCALENDAR
PRODID:-//eluceo/ical//2.0/EN
VERSION:2.0
CALSCALE:GREGORIAN
BEGIN:VEVENT
UID:6f581605-f676-4396-8536-a2e25a4b2866
DTSTAMP:20260421T201249Z
SUMMARY:EOI te da caña
URL:https://www.eoi.es/es/eventos/85711/eoi-te-da-cana
DTSTART:20170713T170000Z
DTEND:20170713T190000Z
LOCATION:Campus EOI Madrid. Avda. Gregorio del Amo\, 6. 28040 Madrid
END:VEVENT
END:VCALENDAR
