BEGIN:VCALENDAR
PRODID:-//eluceo/ical//2.0/EN
VERSION:2.0
CALSCALE:GREGORIAN
BEGIN:VEVENT
UID:f005fe32-a6da-4be6-9489-9cee88024915
DTSTAMP:20260421T134942Z
SUMMARY:Taller ''Mindfulness para Emprendedores'' (Coworking Ciudad Real)
URL:https://www.eoi.es/es/eventos/85703/taller-mindfulness-para-emprendedor
 es-coworking-ciudad-real
DTSTART:20170612T150000Z
DTEND:20170612T190000Z
LOCATION:Sala Taller Coworking EOI-JCCLM – Go2Work CEEI – Ciudad Real C
 / Pedro Muñoz\, 1 13005 – Ciudad Real
END:VEVENT
END:VCALENDAR
