BEGIN:VCALENDAR
PRODID:-//eluceo/ical//2.0/EN
VERSION:2.0
CALSCALE:GREGORIAN
BEGIN:VEVENT
UID:e767c0cd-36a7-4497-9393-686ec6dd871a
DTSTAMP:20260421T201150Z
SUMMARY:Open Day Executive Education
URL:https://www.eoi.es/es/eventos/85697/open-day-executive-education
DTSTART:20170617T080000Z
DTEND:20170617T110000Z
LOCATION:Campus EOI Madrid. Avda. Gregorio del Amo\, 6. 28040 Madrid
END:VEVENT
END:VCALENDAR
