BEGIN:VCALENDAR
PRODID:-//eluceo/ical//2.0/EN
VERSION:2.0
CALSCALE:GREGORIAN
BEGIN:VEVENT
UID:9c1f1905-c102-47c0-8360-989fb08b4610
DTSTAMP:20260421T134551Z
SUMMARY:Taller: ''Ventas para emprendedores: Cómo captar clientes por todo
  el mundo'' (Coworking Ciudad Real)
URL:https://www.eoi.es/es/eventos/85679/taller-ventas-para-emprendedores-co
 mo-captar-clientes-por-todo-el-mundo-coworking-ciudad-real
DTSTART:20170606T150000Z
DTEND:20170606T190000Z
LOCATION:Sala Taller Coworking EOI-JCCLM – Go2Work CEEI – Ciudad Real C
 / Pedro Muñoz\, 1 13005 – Ciudad Real
END:VEVENT
END:VCALENDAR
