BEGIN:VCALENDAR
PRODID:-//eluceo/ical//2.0/EN
VERSION:2.0
CALSCALE:GREGORIAN
BEGIN:VEVENT
UID:d2e25022-4943-4a31-a1da-3136dce9bcbd
DTSTAMP:20260420T011646Z
SUMMARY:Demo Day EOI Sevilla  (Coworking EOI Sevilla)
URL:https://www.eoi.es/es/eventos/85676/demo-day-eoi-sevilla-coworking-eoi-
 sevilla
DTSTART:20170512T080000Z
DTEND:20170512T120000Z
LOCATION:Campus EOI Andalucía – Espacio Coworking
END:VEVENT
END:VCALENDAR
