BEGIN:VCALENDAR
PRODID:-//eluceo/ical//2.0/EN
VERSION:2.0
CALSCALE:GREGORIAN
BEGIN:VEVENT
UID:2e60c3f0-ad95-4866-948b-3b08f5bbbcc5
DTSTAMP:20260420T112516Z
SUMMARY:DEMODAY Coworking Torremolinos: Emprendedores\, Innovación y Brand
 ing como Pilares del Turismo del Futuro (Coworking Torremolinos)
URL:https://www.eoi.es/es/eventos/85674/demoday-coworking-torremolinos-empr
 endedores-innovacion-y-branding-como-pilares-del-turismo-del-futuro-cowork
 ing-torremolinos
DTSTART:20170518T073000Z
DTEND:20170518T120000Z
LOCATION:Palacio de Congresos y Exposiciones de la Costa del Sol. C/ Méxic
 o\, 3. 29620 Torremolinos (Málaga)
END:VEVENT
END:VCALENDAR
