BEGIN:VCALENDAR
PRODID:-//eluceo/ical//2.0/EN
VERSION:2.0
CALSCALE:GREGORIAN
BEGIN:VEVENT
UID:9a91bffa-3628-404c-9932-df3a7c412b70
DTSTAMP:20260421T201150Z
SUMMARY:Conferencia "Mejora de la Productividad\, la Experiencia del Client
 e y los Resultados del Negocio en los Servicios de Campo"
URL:https://www.eoi.es/es/eventos/85665/conferencia-mejora-de-la-productivi
 dad-la-experiencia-del-cliente-y-los-resultados-del-negocio-en-los-servici
 os-de-campo
DTSTART:20170518T070000Z
DTEND:20170518T100000Z
LOCATION:Campus EOI Madrid. Avda. Gregorio del Amo\, 6. 28040 Madrid
END:VEVENT
END:VCALENDAR
