BEGIN:VCALENDAR
PRODID:-//eluceo/ical//2.0/EN
VERSION:2.0
CALSCALE:GREGORIAN
BEGIN:VEVENT
UID:387926f1-58e9-4fa8-a1ab-2f802e867924
DTSTAMP:20260421T184300Z
SUMMARY:4ª Sesión del Observatorio EOI de Economía Global "Mejoras en el
  Sistema de Pensiones"
URL:https://www.eoi.es/es/eventos/85659/4a-sesion-del-observatorio-eoi-de-e
 conomia-global-mejoras-en-el-sistema-de-pensiones
DTSTART:20171024T170000Z
DTEND:20171024T170000Z
LOCATION:Campus EOI Madrid. Avda. Gregorio del Amo\, 6. 28040 Madrid
END:VEVENT
END:VCALENDAR
