BEGIN:VCALENDAR
PRODID:-//eluceo/ical//2.0/EN
VERSION:2.0
CALSCALE:GREGORIAN
BEGIN:VEVENT
UID:4de8dcea-18bf-4d17-8a9b-564bfe42cf52
DTSTAMP:20260421T201212Z
SUMMARY:2º Encuentro con “Nuestros Maestros”: Eduardo Montes
URL:https://www.eoi.es/es/eventos/85658/2o-encuentro-con-nuestros-maestros-
 eduardo-montes
DTSTART:20170504T163000Z
DTEND:20170504T173000Z
LOCATION:Campus EOI Madrid. Avda. Gregorio del Amo\, 6. 28040 Madrid
END:VEVENT
END:VCALENDAR
